BEGIN:VCALENDAR
VERSION:2.0
PRODID:-//Tukios.com/
BEGIN:VEVENT
UID:901c2ffb-70a8-4ff6-9c10-10e4f707fb9a@www.schluppucakfh.com
DTSTAMP:20260421T175049Z
DTSTART:20260426T180000Z
DTEND:20260426T190000Z
SUMMARY:Memorial Service
DESCRIPTION:
URL:https://www.schluppucakfh.com/obituaries/michael-depoincy
LOCATION:Schlup-Pucak & Wilson Funeral Home 788 Kenmore Boulevard  Akron 
	OH 44314
GEO:41.0438033;-81.5521249
END:VEVENT
END:VCALENDAR