BEGIN:VCALENDAR
VERSION:2.0
PRODID:-//Tukios.com/
BEGIN:VEVENT
UID:ae6357a5-21e8-46c7-8c42-6a9ce464d915@www.schluppucakfh.com
DTSTAMP:20260421T175423Z
DTSTART:20260426T170000Z
DTEND:20260426T180000Z
SUMMARY:Visitation
DESCRIPTION:
URL:https://www.schluppucakfh.com/obituaries/michael-depoincy
LOCATION:Schlup-Pucak & Wilson Funeral Home 788 Kenmore Boulevard  Akron 
	OH 44314
GEO:41.0438033;-81.5521249
END:VEVENT
END:VCALENDAR